BEGIN:VCALENDAR
VERSION:2.0
PRODID:-//Broadacres Marketplace - ECPv6.15.20//NONSGML v1.0//EN
CALSCALE:GREGORIAN
METHOD:PUBLISH
X-WR-CALNAME:Broadacres Marketplace
X-ORIGINAL-URL:https://broadacresm.com
X-WR-CALDESC:Events for Broadacres Marketplace
REFRESH-INTERVAL;VALUE=DURATION:PT1H
X-Robots-Tag:noindex
X-PUBLISHED-TTL:PT1H
BEGIN:VTIMEZONE
TZID:America/Los_Angeles
BEGIN:DAYLIGHT
TZOFFSETFROM:-0800
TZOFFSETTO:-0700
TZNAME:PDT
DTSTART:20230312T100000
END:DAYLIGHT
BEGIN:STANDARD
TZOFFSETFROM:-0700
TZOFFSETTO:-0800
TZNAME:PST
DTSTART:20231105T090000
END:STANDARD
BEGIN:DAYLIGHT
TZOFFSETFROM:-0800
TZOFFSETTO:-0700
TZNAME:PDT
DTSTART:20240310T100000
END:DAYLIGHT
BEGIN:STANDARD
TZOFFSETFROM:-0700
TZOFFSETTO:-0800
TZNAME:PST
DTSTART:20241103T090000
END:STANDARD
BEGIN:DAYLIGHT
TZOFFSETFROM:-0800
TZOFFSETTO:-0700
TZNAME:PDT
DTSTART:20250309T100000
END:DAYLIGHT
BEGIN:STANDARD
TZOFFSETFROM:-0700
TZOFFSETTO:-0800
TZNAME:PST
DTSTART:20251102T090000
END:STANDARD
END:VTIMEZONE
BEGIN:VEVENT
DTSTART;TZID=America/Los_Angeles:20240511T113000
DTEND;TZID=America/Los_Angeles:20240511T153000
DTSTAMP:20260425T144013
CREATED:20240508T213113Z
LAST-MODIFIED:20240508T213155Z
UID:14471-1715427000-1715441400@broadacresm.com
SUMMARY:MIGUEL Y SUS KOMPAS
DESCRIPTION:  \nAre you into Sierreño Music? You know\, that type of ensemble common in most towns and the country side of Mexico. How about Micheladas ‘Spicy Beer.’ Do you like those too?  Then we got the perfect combo for you. Come enjoy the sounds of these talented youngsters and provided you are 21 and over\, a cold Michelada while watching them. \n  \nAlso\, do not forget to tell a friend or two you are definitely coming!
URL:https://broadacresm.com/event/miguel-y-sus-kompas-3/
LOCATION:Broadacres Marketplace\, 2930 N. Las Vegas Blvd.\, North Las Vegas\, United States
ORGANIZER;CN="Broadacres Marketplace":MAILTO:mario-t@nd-inc.com
END:VEVENT
BEGIN:VEVENT
DTSTART;TZID=America/Los_Angeles:20240511T173000
DTEND;TZID=America/Los_Angeles:20240511T223000
DTSTAMP:20260425T144013
CREATED:20240509T193717Z
LAST-MODIFIED:20240509T193717Z
UID:14498-1715448600-1715466600@broadacresm.com
SUMMARY:INDUSTRIA DEL AMOR\, GRUPO YNDIO\, & SONORA TROPICANA.
DESCRIPTION:  \n¡Regala a tu mamá la mejor celebración del fin de semana del Día de la Madre con INDUSTRIA DEL AMOR\, GRUPO YNDIO y SONORA TROPICANA!  Por solo $25\, puedes regalarle a tu mamá una noche que nunca olvidará en Broadacres Marketplace el sábado 11 de mayo a las 5:30 p.m. No te pierdas esta velada inolvidable con bandas icónicas: ¡compra tus entradas ahora! #DíaDeLaMadre #MúsicaEnVivo #CelebraAMamá #mothersday #Mothersday2024
URL:https://broadacresm.com/event/industria-del-amor-grupo-yndio-sonora-tropicana/
LOCATION:Broadacres Marketplace\, 2930 N. Las Vegas Blvd.\, North Las Vegas\, United States
ORGANIZER;CN="Broadacres Marketplace":MAILTO:mario-t@nd-inc.com
END:VEVENT
END:VCALENDAR