BEGIN:VCALENDAR
VERSION:2.0
PRODID:-//Broadacres Marketplace - ECPv6.15.20//NONSGML v1.0//EN
CALSCALE:GREGORIAN
METHOD:PUBLISH
X-WR-CALNAME:Broadacres Marketplace
X-ORIGINAL-URL:https://broadacresm.com
X-WR-CALDESC:Events for Broadacres Marketplace
REFRESH-INTERVAL;VALUE=DURATION:PT1H
X-Robots-Tag:noindex
X-PUBLISHED-TTL:PT1H
BEGIN:VTIMEZONE
TZID:America/Los_Angeles
BEGIN:DAYLIGHT
TZOFFSETFROM:-0800
TZOFFSETTO:-0700
TZNAME:PDT
DTSTART:20230312T100000
END:DAYLIGHT
BEGIN:STANDARD
TZOFFSETFROM:-0700
TZOFFSETTO:-0800
TZNAME:PST
DTSTART:20231105T090000
END:STANDARD
BEGIN:DAYLIGHT
TZOFFSETFROM:-0800
TZOFFSETTO:-0700
TZNAME:PDT
DTSTART:20240310T100000
END:DAYLIGHT
BEGIN:STANDARD
TZOFFSETFROM:-0700
TZOFFSETTO:-0800
TZNAME:PST
DTSTART:20241103T090000
END:STANDARD
BEGIN:DAYLIGHT
TZOFFSETFROM:-0800
TZOFFSETTO:-0700
TZNAME:PDT
DTSTART:20250309T100000
END:DAYLIGHT
BEGIN:STANDARD
TZOFFSETFROM:-0700
TZOFFSETTO:-0800
TZNAME:PST
DTSTART:20251102T090000
END:STANDARD
END:VTIMEZONE
BEGIN:VEVENT
DTSTART;TZID=America/Los_Angeles:20240810T103000
DTEND;TZID=America/Los_Angeles:20240810T143000
DTSTAMP:20260425T163311
CREATED:20240808T204136Z
LAST-MODIFIED:20240808T204136Z
UID:15657-1723285800-1723300200@broadacresm.com
SUMMARY:LOS DE ALBERTO
DESCRIPTION:  \nLOS D’ ALBERTO. UNO DE LOS PRIMEROS GRUPOS MUSICALES DE LOS 90\, ANUNCIAN SU REGRESO DE NUEVO A LAS VEGAS. LOS D’ALBERTO TRAEN MÚSICA MUY VERSATIL. MÚSICA DEL RECUERDO\, COMO LOS FREDYS LOS MUECAS LOS MIER BANDA EL MEXICANO Y MÚSICA NORTEÑA CON ACORDEÓN.
URL:https://broadacresm.com/event/los-de-alberto-2/
LOCATION:Broadacres Marketplace\, 2930 N. Las Vegas Blvd.\, North Las Vegas\, United States
ORGANIZER;CN="Broadacres Marketplace":MAILTO:mario-t@nd-inc.com
END:VEVENT
BEGIN:VEVENT
DTSTART;TZID=America/Los_Angeles:20240810T173000
DTEND;TZID=America/Los_Angeles:20240810T230000
DTSTAMP:20260425T163311
CREATED:20240808T212240Z
LAST-MODIFIED:20240808T212240Z
UID:15668-1723311000-1723330800@broadacresm.com
SUMMARY:MAXIMO GRADO\, JESUS OJEDA\, & LA RULETA NORTEÑA
DESCRIPTION:  \n¿Si te gustan  Los Corridos Sinaloenses? este es el momento de disfrutar de 2 de los exponentes actuales mas pegados del genero. Ven a disfrutar la pasión de la  Musica Regional Mexicana  a un precio inigualable en Las Vegas.  Por Solo $35 en preventa\, disfruta desde Culiacán\, Sinaloa los corridos de  Maximo Grado y de Jesus Ojeda . Compra Aqui  
URL:https://broadacresm.com/event/maximo-grado-jesus-ojeda-la-ruleta-nortena/
LOCATION:Broadacres Marketplace\, 2930 N. Las Vegas Blvd.\, North Las Vegas\, United States
ORGANIZER;CN="Broadacres Marketplace":MAILTO:mario-t@nd-inc.com
END:VEVENT
END:VCALENDAR