BEGIN:VCALENDAR
VERSION:2.0
PRODID:-//Broadacres Marketplace - ECPv6.15.20//NONSGML v1.0//EN
CALSCALE:GREGORIAN
METHOD:PUBLISH
X-ORIGINAL-URL:https://broadacresm.com
X-WR-CALDESC:Events for Broadacres Marketplace
REFRESH-INTERVAL;VALUE=DURATION:PT1H
X-Robots-Tag:noindex
X-PUBLISHED-TTL:PT1H
BEGIN:VTIMEZONE
TZID:America/Los_Angeles
BEGIN:DAYLIGHT
TZOFFSETFROM:-0800
TZOFFSETTO:-0700
TZNAME:PDT
DTSTART:20230312T100000
END:DAYLIGHT
BEGIN:STANDARD
TZOFFSETFROM:-0700
TZOFFSETTO:-0800
TZNAME:PST
DTSTART:20231105T090000
END:STANDARD
BEGIN:DAYLIGHT
TZOFFSETFROM:-0800
TZOFFSETTO:-0700
TZNAME:PDT
DTSTART:20240310T100000
END:DAYLIGHT
BEGIN:STANDARD
TZOFFSETFROM:-0700
TZOFFSETTO:-0800
TZNAME:PST
DTSTART:20241103T090000
END:STANDARD
BEGIN:DAYLIGHT
TZOFFSETFROM:-0800
TZOFFSETTO:-0700
TZNAME:PDT
DTSTART:20250309T100000
END:DAYLIGHT
BEGIN:STANDARD
TZOFFSETFROM:-0700
TZOFFSETTO:-0800
TZNAME:PST
DTSTART:20251102T090000
END:STANDARD
END:VTIMEZONE
BEGIN:VEVENT
DTSTART;TZID=America/Los_Angeles:20240817T103000
DTEND;TZID=America/Los_Angeles:20240817T143000
DTSTAMP:20260425T163308
CREATED:20240808T204735Z
LAST-MODIFIED:20240808T204735Z
UID:15661-1723890600-1723905000@broadacresm.com
SUMMARY:XCSO BAND
DESCRIPTION:Hailing from Las Vegas\, the XCSO Band is a vibrant ensemble renowned for their dynamic fusion of Latin rhythms and Top 40 hits. Infusing every performance with infectious energy\, they create unforgettable moments that resonate with audiences of all backgrounds. Fluent in both English and Spanish\, the XCSO Band delivers a diverse repertoire ranging from fiery Spanish Rock and pulsating Cumbia to the latest Top 40 tunes.\nWith their versatility and passion for music\, the XCSO Band guarantees an electrifying experience that leaves a lasting impression on every listener. Available as a 5 or 6-piece group.
URL:https://broadacresm.com/event/xcso-band/
LOCATION:Broadacres Marketplace\, 2930 N. Las Vegas Blvd.\, North Las Vegas\, United States
ORGANIZER;CN="Broadacres Marketplace":MAILTO:mario-t@nd-inc.com
END:VEVENT
END:VCALENDAR