BEGIN:VCALENDAR
VERSION:2.0
PRODID:-//Broadacres Marketplace - ECPv6.15.20//NONSGML v1.0//EN
CALSCALE:GREGORIAN
METHOD:PUBLISH
X-ORIGINAL-URL:https://broadacresm.com
X-WR-CALDESC:Events for Broadacres Marketplace
REFRESH-INTERVAL;VALUE=DURATION:PT1H
X-Robots-Tag:noindex
X-PUBLISHED-TTL:PT1H
BEGIN:VTIMEZONE
TZID:America/Los_Angeles
BEGIN:DAYLIGHT
TZOFFSETFROM:-0800
TZOFFSETTO:-0700
TZNAME:PDT
DTSTART:20230312T100000
END:DAYLIGHT
BEGIN:STANDARD
TZOFFSETFROM:-0700
TZOFFSETTO:-0800
TZNAME:PST
DTSTART:20231105T090000
END:STANDARD
BEGIN:DAYLIGHT
TZOFFSETFROM:-0800
TZOFFSETTO:-0700
TZNAME:PDT
DTSTART:20240310T100000
END:DAYLIGHT
BEGIN:STANDARD
TZOFFSETFROM:-0700
TZOFFSETTO:-0800
TZNAME:PST
DTSTART:20241103T090000
END:STANDARD
BEGIN:DAYLIGHT
TZOFFSETFROM:-0800
TZOFFSETTO:-0700
TZNAME:PDT
DTSTART:20250309T100000
END:DAYLIGHT
BEGIN:STANDARD
TZOFFSETFROM:-0700
TZOFFSETTO:-0800
TZNAME:PST
DTSTART:20251102T090000
END:STANDARD
END:VTIMEZONE
BEGIN:VEVENT
DTSTART;TZID=America/Los_Angeles:20240915T110000
DTEND;TZID=America/Los_Angeles:20240915T133000
DTSTAMP:20260425T180549
CREATED:20240910T195129Z
LAST-MODIFIED:20240910T195129Z
UID:16162-1726398000-1726407000@broadacresm.com
SUMMARY:BANDA LOS PRINCIPES
DESCRIPTION:  \n“Somos la primer banda de musica sinaloense en todos los Estados Unidos integrada por puros niños de entre seis a 13 años\, Principalmente con el objetivo de mejorar la educacion\, ya que la musica consta de talento y disciplina. Esto nos hace ofrecer algo maravilloso a nuestro publico.” -Tony Flores / Director
URL:https://broadacresm.com/event/banda-los-principes-2/
LOCATION:Broadacres Marketplace\, 2930 N. Las Vegas Blvd.\, North Las Vegas\, United States
ORGANIZER;CN="Broadacres Marketplace":MAILTO:mario-t@nd-inc.com
END:VEVENT
BEGIN:VEVENT
DTSTART;TZID=America/Los_Angeles:20240915T113000
DTEND;TZID=America/Los_Angeles:20240915T163000
DTSTAMP:20260425T180549
CREATED:20240829T192224Z
LAST-MODIFIED:20240829T192224Z
UID:16051-1726399800-1726417800@broadacresm.com
SUMMARY:LA RULETA NORTEÑA
DESCRIPTION:  \nThe all time favorite hits\, but played like never before. Come and enjoy the unique sound of these fine musicians. Yeah Baby! \nShare this post with someone you know loves Norteño Music and see you there!
URL:https://broadacresm.com/event/la-ruleta-nortena-14/
LOCATION:Broadacres Marketplace\, 2930 N. Las Vegas Blvd.\, North Las Vegas\, United States
ORGANIZER;CN="Broadacres Marketplace":MAILTO:mario-t@nd-inc.com
END:VEVENT
END:VCALENDAR