BEGIN:VCALENDAR
VERSION:2.0
PRODID:-//Broadacres Marketplace - ECPv6.15.20//NONSGML v1.0//EN
CALSCALE:GREGORIAN
METHOD:PUBLISH
X-WR-CALNAME:Broadacres Marketplace
X-ORIGINAL-URL:https://broadacresm.com
X-WR-CALDESC:Events for Broadacres Marketplace
REFRESH-INTERVAL;VALUE=DURATION:PT1H
X-Robots-Tag:noindex
X-PUBLISHED-TTL:PT1H
BEGIN:VTIMEZONE
TZID:America/Los_Angeles
BEGIN:DAYLIGHT
TZOFFSETFROM:-0800
TZOFFSETTO:-0700
TZNAME:PDT
DTSTART:20230312T100000
END:DAYLIGHT
BEGIN:STANDARD
TZOFFSETFROM:-0700
TZOFFSETTO:-0800
TZNAME:PST
DTSTART:20231105T090000
END:STANDARD
BEGIN:DAYLIGHT
TZOFFSETFROM:-0800
TZOFFSETTO:-0700
TZNAME:PDT
DTSTART:20240310T100000
END:DAYLIGHT
BEGIN:STANDARD
TZOFFSETFROM:-0700
TZOFFSETTO:-0800
TZNAME:PST
DTSTART:20241103T090000
END:STANDARD
BEGIN:DAYLIGHT
TZOFFSETFROM:-0800
TZOFFSETTO:-0700
TZNAME:PDT
DTSTART:20250309T100000
END:DAYLIGHT
BEGIN:STANDARD
TZOFFSETFROM:-0700
TZOFFSETTO:-0800
TZNAME:PST
DTSTART:20251102T090000
END:STANDARD
END:VTIMEZONE
BEGIN:VEVENT
DTSTART;TZID=America/Los_Angeles:20241019T113000
DTEND;TZID=America/Los_Angeles:20241019T153000
DTSTAMP:20260425T212009
CREATED:20241008T185128Z
LAST-MODIFIED:20241009T221334Z
UID:16494-1729337400-1729351800@broadacresm.com
SUMMARY:TANIA Y SU GRUPO LVADO
DESCRIPTION:  \nLos exitos inmortales en voz de mujer al estilo unico de Tania su grupo Norteño LVADO. Dile a tus amigos y nos vemos en la pista de baile en Broadacres Marketplace.
URL:https://broadacresm.com/event/tania-y-su-grupo-lvado/
LOCATION:Broadacres Marketplace\, 2930 N. Las Vegas Blvd.\, North Las Vegas\, United States
ORGANIZER;CN="Broadacres Marketplace":MAILTO:mario-t@nd-inc.com
END:VEVENT
END:VCALENDAR