BEGIN:VCALENDAR
VERSION:2.0
PRODID:-//Broadacres Marketplace - ECPv6.15.20//NONSGML v1.0//EN
CALSCALE:GREGORIAN
METHOD:PUBLISH
X-WR-CALNAME:Broadacres Marketplace
X-ORIGINAL-URL:https://broadacresm.com
X-WR-CALDESC:Events for Broadacres Marketplace
REFRESH-INTERVAL;VALUE=DURATION:PT1H
X-Robots-Tag:noindex
X-PUBLISHED-TTL:PT1H
BEGIN:VTIMEZONE
TZID:America/Los_Angeles
BEGIN:DAYLIGHT
TZOFFSETFROM:-0800
TZOFFSETTO:-0700
TZNAME:PDT
DTSTART:20230312T100000
END:DAYLIGHT
BEGIN:STANDARD
TZOFFSETFROM:-0700
TZOFFSETTO:-0800
TZNAME:PST
DTSTART:20231105T090000
END:STANDARD
BEGIN:DAYLIGHT
TZOFFSETFROM:-0800
TZOFFSETTO:-0700
TZNAME:PDT
DTSTART:20240310T100000
END:DAYLIGHT
BEGIN:STANDARD
TZOFFSETFROM:-0700
TZOFFSETTO:-0800
TZNAME:PST
DTSTART:20241103T090000
END:STANDARD
BEGIN:DAYLIGHT
TZOFFSETFROM:-0800
TZOFFSETTO:-0700
TZNAME:PDT
DTSTART:20250309T100000
END:DAYLIGHT
BEGIN:STANDARD
TZOFFSETFROM:-0700
TZOFFSETTO:-0800
TZNAME:PST
DTSTART:20251102T090000
END:STANDARD
END:VTIMEZONE
BEGIN:VEVENT
DTSTART;TZID=America/Los_Angeles:20241116T113000
DTEND;TZID=America/Los_Angeles:20241116T153000
DTSTAMP:20260425T212108
CREATED:20241031T044304Z
LAST-MODIFIED:20241115T210521Z
UID:16820-1731756600-1731771000@broadacresm.com
SUMMARY:CHIN-GONES “ROCK'N ESPAÑOL”
DESCRIPTION:  \nChin Gone’s rock\nNace oficialmente el dia 6 de enero de 2023 bajo la direccion de Ezequiel lopez (brochas) conguero\,\ncomo petición por parte de unos amigos que nesesitaban una banda de rock para su negocio.\nLa rapida acepactacion de el publico hizo que la agrupacion creciera.\nLa versatilidad de sus integrantes hace que esta banda tenga un sonido muy peculiar y diferente a las demas agrupaciones rockeras de el valle.\nTrio\,salsa\,cumbia\,merengue\,timba\,son\, guaracha\,rumba\,solo por nombrar algunos generos fucionados con el rock de Los Chin-gones.
URL:https://broadacresm.com/event/chin-gones-rock-n-espanol-2/
LOCATION:Broadacres Marketplace\, 2930 N. Las Vegas Blvd.\, North Las Vegas\, United States
ORGANIZER;CN="Broadacres Marketplace":MAILTO:mario-t@nd-inc.com
END:VEVENT
END:VCALENDAR