BEGIN:VCALENDAR
VERSION:2.0
PRODID:-//Broadacres Marketplace - ECPv6.15.20//NONSGML v1.0//EN
CALSCALE:GREGORIAN
METHOD:PUBLISH
X-ORIGINAL-URL:https://broadacresm.com
X-WR-CALDESC:Events for Broadacres Marketplace
REFRESH-INTERVAL;VALUE=DURATION:PT1H
X-Robots-Tag:noindex
X-PUBLISHED-TTL:PT1H
BEGIN:VTIMEZONE
TZID:America/Los_Angeles
BEGIN:DAYLIGHT
TZOFFSETFROM:-0800
TZOFFSETTO:-0700
TZNAME:PDT
DTSTART:20230312T100000
END:DAYLIGHT
BEGIN:STANDARD
TZOFFSETFROM:-0700
TZOFFSETTO:-0800
TZNAME:PST
DTSTART:20231105T090000
END:STANDARD
BEGIN:DAYLIGHT
TZOFFSETFROM:-0800
TZOFFSETTO:-0700
TZNAME:PDT
DTSTART:20240310T100000
END:DAYLIGHT
BEGIN:STANDARD
TZOFFSETFROM:-0700
TZOFFSETTO:-0800
TZNAME:PST
DTSTART:20241103T090000
END:STANDARD
BEGIN:DAYLIGHT
TZOFFSETFROM:-0800
TZOFFSETTO:-0700
TZNAME:PDT
DTSTART:20250309T100000
END:DAYLIGHT
BEGIN:STANDARD
TZOFFSETFROM:-0700
TZOFFSETTO:-0800
TZNAME:PST
DTSTART:20251102T090000
END:STANDARD
END:VTIMEZONE
BEGIN:VEVENT
DTSTART;TZID=America/Los_Angeles:20240405T180000
DTEND;TZID=America/Los_Angeles:20240405T220000
DTSTAMP:20260425T144743
CREATED:20240329T220431Z
LAST-MODIFIED:20240329T220431Z
UID:13739-1712340000-1712354400@broadacresm.com
SUMMARY:LA RULETA NORTENA
DESCRIPTION:  \nThe all time favorite hits\, but played like never before. Come and enjoy the unique sound of these fine musicians. Yeah Baby! \nShare this post with someone you know loves Norteño Music and see you there!
URL:https://broadacresm.com/event/la-ruleta-nortena-11/
LOCATION:Broadacres Marketplace\, 2930 N. Las Vegas Blvd.\, North Las Vegas\, United States
ORGANIZER;CN="Broadacres Marketplace":MAILTO:mario-t@nd-inc.com
END:VEVENT
BEGIN:VEVENT
DTSTART;TZID=America/Los_Angeles:20240406T113000
DTEND;TZID=America/Los_Angeles:20240406T153000
DTSTAMP:20260425T144743
CREATED:20240329T220731Z
LAST-MODIFIED:20240329T220731Z
UID:13754-1712403000-1712417400@broadacresm.com
SUMMARY:LOS METICHONES BAND
DESCRIPTION:  \nYoung and talented equals nonstop energy and fabulous engaging entertainment. They call themselves “The Craziest Band in Las Vegas\,” come witness why. And tell a friend or two\, they will be in for a treat with this band. \n 
URL:https://broadacresm.com/event/los-metichones-band-3/
LOCATION:Broadacres Marketplace\, 2930 N. Las Vegas Blvd.\, North Las Vegas\, United States
ORGANIZER;CN="Broadacres Marketplace":MAILTO:mario-t@nd-inc.com
END:VEVENT
BEGIN:VEVENT
DTSTART;TZID=America/Los_Angeles:20240407T113000
DTEND;TZID=America/Los_Angeles:20240407T163000
DTSTAMP:20260425T144743
CREATED:20240329T221048Z
LAST-MODIFIED:20240329T221048Z
UID:13756-1712489400-1712507400@broadacresm.com
SUMMARY:BANDA DESTRUCTORA
DESCRIPTION:  \nNo dejes de disfrutar de “El Ponche” y el acoplamiento musical que solo se logran con años de tocar juntos. Broadacres Proudly Presents: BANDA LA DESTRUCTORA. \nWhen looking for great entertainment experience\, you can’t go wrong with this band. Tell a friend or 2 and see you on the dancefloor!
URL:https://broadacresm.com/event/banda-destructora-9/
LOCATION:Broadacres Marketplace\, 2930 N. Las Vegas Blvd.\, North Las Vegas\, United States
ORGANIZER;CN="Broadacres Marketplace":MAILTO:mario-t@nd-inc.com
END:VEVENT
BEGIN:VEVENT
DTSTART;TZID=America/Los_Angeles:20240412T180000
DTEND;TZID=America/Los_Angeles:20240412T220000
DTSTAMP:20260425T144743
CREATED:20240404T182859Z
LAST-MODIFIED:20240404T182859Z
UID:13812-1712944800-1712959200@broadacresm.com
SUMMARY:EZTILO NORTE
DESCRIPTION:  \nTraditional Norteño Hits\, of the likes of Ramon Ayala\, Cadetes de Linares\, Eliseo Robles\, Etc.. Are chosen favorites of this group that will take you back to a pleasant repertoire which will call for the traditional Aaayyyayayayayayy Mexican yell! Bring your entire family and come have a great time with us and EZTILO NORTE.
URL:https://broadacresm.com/event/eztilo-norte-9/
LOCATION:Broadacres Marketplace\, 2930 N. Las Vegas Blvd.\, North Las Vegas\, United States
ORGANIZER;CN="Broadacres Marketplace":MAILTO:mario-t@nd-inc.com
END:VEVENT
BEGIN:VEVENT
DTSTART;TZID=America/Los_Angeles:20240413T113000
DTEND;TZID=America/Los_Angeles:20240413T153000
DTSTAMP:20260425T144743
CREATED:20240404T185746Z
LAST-MODIFIED:20240404T185746Z
UID:13814-1713007800-1713022200@broadacresm.com
SUMMARY:SONORA MAR Y MAR
DESCRIPTION:  \nIf you are into traditional South American sound of CUMBIA\, \n💃🏻🕺🏻 you have to come enjoy Sonora Mar y Mar. \n🎸🎹🪘 They keep the traditional cumbia sounds of the famous Sonoras of all times while adding their own little twist. While you are here why not try a delicious refreshing MICHELADA? \n🍺 We only serve ‘the best in town.’ \nAh! and do not forget to tell someone you know loves Cumbia that you are coming!
URL:https://broadacresm.com/event/sonora-mar-y-mar-7/
LOCATION:Broadacres Marketplace\, 2930 N. Las Vegas Blvd.\, North Las Vegas\, United States
ORGANIZER;CN="Broadacres Marketplace":MAILTO:mario-t@nd-inc.com
END:VEVENT
BEGIN:VEVENT
DTSTART;TZID=America/Los_Angeles:20240414T113000
DTEND;TZID=America/Los_Angeles:20240414T163000
DTSTAMP:20260425T144743
CREATED:20240404T185924Z
LAST-MODIFIED:20240404T185924Z
UID:13816-1713094200-1713112200@broadacresm.com
SUMMARY:BANDA ESTRELLA SINALOENSE
DESCRIPTION:How about moving & dancing to the beat of one of the busiest and most acclaimed Bandas in Las Vegas. Yes Sir.\, We are talking about BANDA ESTRELLA SINALOENSE. If you dig this ‘Genre’ you will definitely dig this BANDA. Tell a friend or two you are coming and see you here!
URL:https://broadacresm.com/event/banda-estrella-sinaloense-7/
LOCATION:Broadacres Marketplace\, 2930 N. Las Vegas Blvd.\, North Las Vegas\, United States
ORGANIZER;CN="Broadacres Marketplace":MAILTO:mario-t@nd-inc.com
END:VEVENT
BEGIN:VEVENT
DTSTART;TZID=America/Los_Angeles:20240419T180000
DTEND;TZID=America/Los_Angeles:20240419T220000
DTSTAMP:20260425T144743
CREATED:20240404T201726Z
LAST-MODIFIED:20240404T201726Z
UID:13827-1713549600-1713564000@broadacresm.com
SUMMARY:VENADOS DE SONORA
DESCRIPTION:  \nCome enjoy the sound and entertainment ambiance provided by this authentic Mexican Busking-like Quartet. Picture you are at some restaurant by the beach in Mexico enjoying a Michelada\, and being entertained at your table. Now come experience a similar feeling here at Broadacres Marketplace with VENADOS DE SONORA. Awesome right? See you here and DO NOT FORGET to bring a friend or family or both!
URL:https://broadacresm.com/event/venados-de-sonora-7/
LOCATION:Broadacres Marketplace\, 2930 N. Las Vegas Blvd.\, North Las Vegas\, United States
ORGANIZER;CN="Broadacres Marketplace":MAILTO:mario-t@nd-inc.com
END:VEVENT
BEGIN:VEVENT
DTSTART;TZID=America/Los_Angeles:20240420T113000
DTEND;TZID=America/Los_Angeles:20240420T153000
DTSTAMP:20260425T144743
CREATED:20240404T202029Z
LAST-MODIFIED:20240404T202029Z
UID:13831-1713612600-1713627000@broadacresm.com
SUMMARY:ESENCIA COLOMBIANA
DESCRIPTION:Did somebody say Cumbia? Check out these fine musicians and their endless energy and ‘Sabor’ (Flavor). If you are into fun and dancing in a Family oriented outdoors venue\, WE ARE the place for you. Bring the entire family and your friends.
URL:https://broadacresm.com/event/esencia-colombiana-6/
LOCATION:Broadacres Marketplace\, 2930 N. Las Vegas Blvd.\, North Las Vegas\, United States
ORGANIZER;CN="Broadacres Marketplace":MAILTO:mario-t@nd-inc.com
END:VEVENT
BEGIN:VEVENT
DTSTART;TZID=America/Los_Angeles:20240421T113000
DTEND;TZID=America/Los_Angeles:20240421T163000
DTSTAMP:20260425T144743
CREATED:20240404T202535Z
LAST-MODIFIED:20240404T202535Z
UID:13833-1713699000-1713717000@broadacresm.com
SUMMARY:BANDA AIRES DEL PACIFICO
DESCRIPTION:  \nIf you are into BANDA MUSIC. You can NOT miss these guys. Come enjoy some great Banda Sounds and while you are here enjoy the BEST Micheladas in Town. Do not forget to tell a friend or two you are coming!..
URL:https://broadacresm.com/event/banda-aires-del-pacifico-2/
LOCATION:Broadacres Marketplace\, 2930 N. Las Vegas Blvd.\, North Las Vegas\, United States
ORGANIZER;CN="Broadacres Marketplace":MAILTO:mario-t@nd-inc.com
END:VEVENT
BEGIN:VEVENT
DTSTART;TZID=America/Los_Angeles:20240426T180000
DTEND;TZID=America/Los_Angeles:20240426T220000
DTSTAMP:20260425T144743
CREATED:20240404T202920Z
LAST-MODIFIED:20240421T232215Z
UID:13835-1714154400-1714168800@broadacresm.com
SUMMARY:SUPER GRUPO K-LI2
DESCRIPTION:  \n\n\nAre you into Cumbia? How about Cumbia from the Estado de Mexico? If you are\, you can’t miss these local ‘top notch’ representatives of the genre. Come enjoy their swing and their energy. And don’t forget\, tell a friend or two who you know would love to enjoy these too!
URL:https://broadacresm.com/event/super-grupo-k-li2-4/
LOCATION:Broadacres Marketplace\, 2930 N. Las Vegas Blvd.\, North Las Vegas\, United States
ORGANIZER;CN="Broadacres Marketplace":MAILTO:mario-t@nd-inc.com
END:VEVENT
BEGIN:VEVENT
DTSTART;TZID=America/Los_Angeles:20240427T113000
DTEND;TZID=America/Los_Angeles:20240427T153000
DTSTAMP:20260425T144743
CREATED:20240404T203054Z
LAST-MODIFIED:20240424T042917Z
UID:13837-1714217400-1714231800@broadacresm.com
SUMMARY:TANIA Y SU GRUPO L-VADO
DESCRIPTION:  \nThe Regional Mexican music genre\, is one where Female performers are out-numbered. Despite that\, once every so often a star raises. Come witness the debut at Broadacres of this gorgeous hard working singer. Not only with great looks but she is also a seasoned performer Born to a family of musicians. Tania Perez brings us a value proposition in the form of a Norteño Band. You really can’t miss this debut performance at Broadacres marketplace. Who knows\, we just might be witnessing the birth of a new Star. See you here and Do Not forget to tell a friend you are coming.
URL:https://broadacresm.com/event/tania-y-su-grupo-l-vado-5/
LOCATION:Broadacres Marketplace\, 2930 N. Las Vegas Blvd.\, North Las Vegas\, United States
ORGANIZER;CN="Broadacres Marketplace":MAILTO:mario-t@nd-inc.com
END:VEVENT
BEGIN:VEVENT
DTSTART;TZID=America/Los_Angeles:20240428T113000
DTEND;TZID=America/Los_Angeles:20240428T173000
DTSTAMP:20260425T144743
CREATED:20240404T203426Z
LAST-MODIFIED:20240424T040647Z
UID:13839-1714303800-1714325400@broadacresm.com
SUMMARY:"SUPER DOMINGO." BANDA RANCHO VIEJO y Banda Desierto
DESCRIPTION:  \nEn agradecimiento a su parocinio\, Broadacres Marketplace y Valdivia Marketing Group les traemos otro  SUPER DOMINGO  ahora con la incomparable BANDA  RANCHO VIEJO  ademas; Banda Desierto. Admision UNICAMENTE  $3.50 No te lo puedes perder. #micheladas #Ahorro #Entretenimiento #bailes #allages
URL:https://broadacresm.com/event/banda-desierto-6/
LOCATION:Broadacres Marketplace\, 2930 N. Las Vegas Blvd.\, North Las Vegas\, United States
ORGANIZER;CN="Broadacres Marketplace":MAILTO:mario-t@nd-inc.com
END:VEVENT
END:VCALENDAR