BEGIN:VCALENDAR
VERSION:2.0
PRODID:-//Broadacres Marketplace - ECPv6.15.20//NONSGML v1.0//EN
CALSCALE:GREGORIAN
METHOD:PUBLISH
X-WR-CALNAME:Broadacres Marketplace
X-ORIGINAL-URL:https://broadacresm.com
X-WR-CALDESC:Events for Broadacres Marketplace
REFRESH-INTERVAL;VALUE=DURATION:PT1H
X-Robots-Tag:noindex
X-PUBLISHED-TTL:PT1H
BEGIN:VTIMEZONE
TZID:America/Los_Angeles
BEGIN:DAYLIGHT
TZOFFSETFROM:-0800
TZOFFSETTO:-0700
TZNAME:PDT
DTSTART:20230312T100000
END:DAYLIGHT
BEGIN:STANDARD
TZOFFSETFROM:-0700
TZOFFSETTO:-0800
TZNAME:PST
DTSTART:20231105T090000
END:STANDARD
BEGIN:DAYLIGHT
TZOFFSETFROM:-0800
TZOFFSETTO:-0700
TZNAME:PDT
DTSTART:20240310T100000
END:DAYLIGHT
BEGIN:STANDARD
TZOFFSETFROM:-0700
TZOFFSETTO:-0800
TZNAME:PST
DTSTART:20241103T090000
END:STANDARD
BEGIN:DAYLIGHT
TZOFFSETFROM:-0800
TZOFFSETTO:-0700
TZNAME:PDT
DTSTART:20250309T100000
END:DAYLIGHT
BEGIN:STANDARD
TZOFFSETFROM:-0700
TZOFFSETTO:-0800
TZNAME:PST
DTSTART:20251102T090000
END:STANDARD
END:VTIMEZONE
BEGIN:VEVENT
DTSTART;TZID=America/Los_Angeles:20240601T103000
DTEND;TZID=America/Los_Angeles:20240601T143000
DTSTAMP:20260425T114418
CREATED:20240524T030656Z
LAST-MODIFIED:20240524T030656Z
UID:14653-1717237800-1717252200@broadacresm.com
SUMMARY:SOBRE DOSIS BAND
DESCRIPTION:  \n¿Listos para una sobredosis de alegria y de sabor? Are you willing to OD on fun and joy? That is the value proposition of this band when it comes to danceable fun and entertainment. Let’s all meet at the dance-floor and get ready to be taken on a journey through traditional South American\, Latin American\, and Caribbean Sounds. Tell your family and friends you are definitely coming.
URL:https://broadacresm.com/event/sobre-dosis-band/
LOCATION:Broadacres Marketplace\, 2930 N. Las Vegas Blvd.\, North Las Vegas\, United States
ORGANIZER;CN="Broadacres Marketplace":MAILTO:mario-t@nd-inc.com
END:VEVENT
BEGIN:VEVENT
DTSTART;TZID=America/Los_Angeles:20240602T103000
DTEND;TZID=America/Los_Angeles:20240602T143000
DTSTAMP:20260425T114418
CREATED:20240524T031119Z
LAST-MODIFIED:20240524T031119Z
UID:14655-1717324200-1717338600@broadacresm.com
SUMMARY:BANDA ZACATECANA
DESCRIPTION:¿Listos para una bailada con Musica de Banda\, alegria y sabor? Are you ready to have fun with one of the best and more renowned Bandas in Las Vegas? Entonces no te puedes perder a BANDA ZACATECANA. Tell your family and friends you are definitely coming.
URL:https://broadacresm.com/event/banda-zacatecana-9/
LOCATION:Broadacres Marketplace\, 2930 N. Las Vegas Blvd.\, North Las Vegas\, United States
ORGANIZER;CN="Broadacres Marketplace":MAILTO:mario-t@nd-inc.com
END:VEVENT
BEGIN:VEVENT
DTSTART;TZID=America/Los_Angeles:20240607T183000
DTEND;TZID=America/Los_Angeles:20240607T223000
DTSTAMP:20260425T114418
CREATED:20240524T031442Z
LAST-MODIFIED:20240524T031442Z
UID:14657-1717785000-1717799400@broadacresm.com
SUMMARY:GRUPO FAZETA
DESCRIPTION:  \nThis band is made up of 5 members from different parts of Mexico Michoacan\, DF\, and Hidalgo. playing a variety of music genres such as “Tierra Caliente”\, Zapateados\, Cumbias\, Norteñas\, and Quebradita. This band has been together for over 15 years in Las Vegas. Come and enjoy the debut of these talented individuals here at Broadacres Marketplace along with the best micheladas in town. don’t forget to invite a friend or 2.
URL:https://broadacresm.com/event/grupo-fazeta-2/
LOCATION:Broadacres Marketplace\, 2930 N. Las Vegas Blvd.\, North Las Vegas\, United States
ORGANIZER;CN="Broadacres Marketplace":MAILTO:mario-t@nd-inc.com
END:VEVENT
BEGIN:VEVENT
DTSTART;TZID=America/Los_Angeles:20240608T103000
DTEND;TZID=America/Los_Angeles:20240608T143000
DTSTAMP:20260425T114418
CREATED:20240524T031831Z
LAST-MODIFIED:20240524T031831Z
UID:14659-1717842600-1717857000@broadacresm.com
SUMMARY:CONJUNTO MAGICO DE CHIHUAHUA
DESCRIPTION:  \nBroadacres\, features a group that brings the traditional Norteño sounds of the beautiful state of Chihuahua\, Mexico. \nIf you are into Norteño Music for your listening and dancing pleasure\, you will not regret coming to watch these band perform. Also\, do not forget to tell a friend or two you are coming.
URL:https://broadacresm.com/event/conjunto-magico-de-chihuahua-4/
LOCATION:Broadacres Marketplace\, 2930 N. Las Vegas Blvd.\, North Las Vegas\, United States
ORGANIZER;CN="Broadacres Marketplace":MAILTO:mario-t@nd-inc.com
END:VEVENT
BEGIN:VEVENT
DTSTART;TZID=America/Los_Angeles:20240609T103000
DTEND;TZID=America/Los_Angeles:20240609T143000
DTSTAMP:20260425T114418
CREATED:20240524T032219Z
LAST-MODIFIED:20240524T032219Z
UID:14661-1717929000-1717943400@broadacresm.com
SUMMARY:LOS GURRUMINOS DE LA BANDA
DESCRIPTION:  \nTheir very own style of re arranging ‘all time favorite’ musical hits. Original Material trending in social media\, endless repertoire product of a vast musicianship\, and 4 years with the exact same band members\, is only part of the great value proposition this band brings. Broadacres Presents: ¡Los Gurruminos de La Banda! \nIf you are into this genre of music you can not miss them. Be sure to share this post with your friends whom you know love this genre as well.
URL:https://broadacresm.com/event/los-gurruminos-de-la-banda-7/
LOCATION:Broadacres Marketplace\, 2930 N. Las Vegas Blvd.\, North Las Vegas\, United States
ORGANIZER;CN="Broadacres Marketplace":MAILTO:mario-t@nd-inc.com
END:VEVENT
BEGIN:VEVENT
DTSTART;TZID=America/Los_Angeles:20240614T183000
DTEND;TZID=America/Los_Angeles:20240614T223000
DTSTAMP:20260425T114418
CREATED:20240609T042603Z
LAST-MODIFIED:20240609T042603Z
UID:14793-1718389800-1718404200@broadacresm.com
SUMMARY:CONJUNTO SECRETO
DESCRIPTION:Norteño 100%. If you are into the genre made popular by the great icon Ramon Ayala\, You CAN NOT miss these guys! Seasoned musicians who just came together recently to form this group. Each of them bringing to the table a plethora of experiences in both\, life itself and music. A real treat to watch and dance to. Share this post with your friends and family\, they will thank you.
URL:https://broadacresm.com/event/conjunto-secreto-9/
LOCATION:Broadacres Marketplace\, 2930 N. Las Vegas Blvd.\, North Las Vegas\, United States
ORGANIZER;CN="Broadacres Marketplace":MAILTO:mario-t@nd-inc.com
END:VEVENT
BEGIN:VEVENT
DTSTART;TZID=America/Los_Angeles:20240615T103000
DTEND;TZID=America/Los_Angeles:20240615T143000
DTSTAMP:20260425T114418
CREATED:20240609T044420Z
LAST-MODIFIED:20240609T044420Z
UID:14820-1718447400-1718461800@broadacresm.com
SUMMARY:CHIN-GONES "ROCK 'n ESPAÑOL"
DESCRIPTION:“ROCK ‘n ESPAÑOL”
URL:https://broadacresm.com/event/chin-gones-rock-n-espanol/
LOCATION:Broadacres Marketplace\, 2930 N. Las Vegas Blvd.\, North Las Vegas\, United States
ORGANIZER;CN="Broadacres Marketplace":MAILTO:mario-t@nd-inc.com
END:VEVENT
BEGIN:VEVENT
DTSTART;TZID=America/Los_Angeles:20240616T103000
DTEND;TZID=America/Los_Angeles:20240616T153000
DTSTAMP:20260425T114418
CREATED:20240609T042814Z
LAST-MODIFIED:20240616T200716Z
UID:14805-1718533800-1718551800@broadacresm.com
SUMMARY:TECHNO BANDA LA DESTRUCTORA
DESCRIPTION:  \nNo dejes de disfrutar de “El Ponche” y el acoplamiento musical que solo se logran con años de tocar juntos. Broadacres Proudly Presents: BANDA LA DESTRUCTORA. \nWhen looking for great entertainment experience\, you can’t go wrong with this band. Tell a friend or 2 and see you on the dancefloor!
URL:https://broadacresm.com/event/techno-banda-la-destructora-2/
LOCATION:Broadacres Marketplace\, 2930 N. Las Vegas Blvd.\, North Las Vegas\, United States
ORGANIZER;CN="Broadacres Marketplace":MAILTO:mario-t@nd-inc.com
END:VEVENT
BEGIN:VEVENT
DTSTART;TZID=America/Los_Angeles:20240621T183000
DTEND;TZID=America/Los_Angeles:20240621T223000
DTSTAMP:20260425T114418
CREATED:20240609T043130Z
LAST-MODIFIED:20240609T043130Z
UID:14807-1718994600-1719009000@broadacresm.com
SUMMARY:LOS HERMANOS PADILLA
DESCRIPTION:  \nA local legend in the Las Vegas Norteño Music scene. You can’t go wrong with listening to these guys. Come enjoy the classic sound of Los Hermanos Padilla. Don’t forget to Tell a Friend!
URL:https://broadacresm.com/event/los-hermanos-padilla-7/
LOCATION:Broadacres Marketplace\, 2930 N. Las Vegas Blvd.\, North Las Vegas\, United States
ORGANIZER;CN="Broadacres Marketplace":MAILTO:mario-t@nd-inc.com
END:VEVENT
BEGIN:VEVENT
DTSTART;TZID=America/Los_Angeles:20240622T103000
DTEND;TZID=America/Los_Angeles:20240622T143000
DTSTAMP:20260425T114418
CREATED:20240609T043323Z
LAST-MODIFIED:20240609T043323Z
UID:14809-1719052200-1719066600@broadacresm.com
SUMMARY:LOS ENCONTRADOS DE LA SIERRA
DESCRIPTION:  \nTremendo Sierreño debuta en Broadacres este 13 de Enero de 2024. Una propuesta fresca y diferente. Si gustas del genero Sierreño\, estos muchachones te van a encantar. Por aca nos vemos. Traete a toda la familia.
URL:https://broadacresm.com/event/los-encontrados-de-la-sierra-2/
LOCATION:Broadacres Marketplace\, 2930 N. Las Vegas Blvd.\, North Las Vegas\, United States
ORGANIZER;CN="Broadacres Marketplace":MAILTO:mario-t@nd-inc.com
END:VEVENT
BEGIN:VEVENT
DTSTART;TZID=America/Los_Angeles:20240623T103000
DTEND;TZID=America/Los_Angeles:20240623T153000
DTSTAMP:20260425T114418
CREATED:20240609T043508Z
LAST-MODIFIED:20240609T043508Z
UID:14811-1719138600-1719156600@broadacresm.com
SUMMARY:LA RULETA NORTENA
DESCRIPTION:  \nThe all time favorite hits\, but played like never before. Come and enjoy the unique sound of these fine musicians. Yeah Baby! \nShare this post with someone you know loves Norteño Music and see you there!
URL:https://broadacresm.com/event/la-ruleta-nortena-12/
LOCATION:Broadacres Marketplace\, 2930 N. Las Vegas Blvd.\, North Las Vegas\, United States
ORGANIZER;CN="Broadacres Marketplace":MAILTO:mario-t@nd-inc.com
END:VEVENT
BEGIN:VEVENT
DTSTART;TZID=America/Los_Angeles:20240628T183000
DTEND;TZID=America/Los_Angeles:20240628T223000
DTSTAMP:20260425T114418
CREATED:20240609T043649Z
LAST-MODIFIED:20240609T043649Z
UID:14813-1719599400-1719613800@broadacresm.com
SUMMARY:ZIGMA
DESCRIPTION:  \nFrom the beautiful state of Chihuahua in Mexico. Comes a great voice with in this great singer who is also a scholar. Bachelors in Business Administration in Mexico now in charge of administering this great band and his singing. His genre of choice; Norteño\, unbeknownst to many\, won Telemundo’s LA ACADEMIA Singing contest in Las Vegas Singing multiple musical genres. Please come enjoy the great music of Zigma and the unique voice of Polo Armendariz. While at it\, tell a friend or two. They will thank you for it.
URL:https://broadacresm.com/event/zigma-9/
LOCATION:Broadacres Marketplace\, 2930 N. Las Vegas Blvd.\, North Las Vegas\, United States
ORGANIZER;CN="Broadacres Marketplace":MAILTO:mario-t@nd-inc.com
END:VEVENT
BEGIN:VEVENT
DTSTART;TZID=America/Los_Angeles:20240629T103000
DTEND;TZID=America/Los_Angeles:20240629T143000
DTSTAMP:20260425T114418
CREATED:20240609T043832Z
LAST-MODIFIED:20240609T043832Z
UID:14816-1719657000-1719671400@broadacresm.com
SUMMARY:EZTILO NORTE
DESCRIPTION:  \nTraditional Norteño Hits\, of the likes of Ramon Ayala\, Cadetes de Linares\, Eliseo Robles\, Etc.. Are chosen favorites of this group that will take you back to a pleasant repertoire which will call for the traditional Aaayyyayayayayayy Mexican yell! Bring your entire family and come have a great time with us and EZTILO NORTE.
URL:https://broadacresm.com/event/eztilo-norte-10/
LOCATION:Broadacres Marketplace\, 2930 N. Las Vegas Blvd.\, North Las Vegas\, United States
ORGANIZER;CN="Broadacres Marketplace":MAILTO:mario-t@nd-inc.com
END:VEVENT
BEGIN:VEVENT
DTSTART;TZID=America/Los_Angeles:20240630T103000
DTEND;TZID=America/Los_Angeles:20240630T153000
DTSTAMP:20260425T114418
CREATED:20240609T044109Z
LAST-MODIFIED:20240609T044109Z
UID:14818-1719743400-1719761400@broadacresm.com
SUMMARY:LA PROYECCIÓN DE DURANGO
DESCRIPTION:  \nAre you into Regional Mexican Variety live Music with an accent on ‘Pasito Duranguense’? Then you can’t miss this great band. Come enjoy the sounds of live music in a family oriented atmosphere. And do not forget to Tell a Friend or two you are coming!
URL:https://broadacresm.com/event/la-proyeccion-de-durango-8/
LOCATION:Broadacres Marketplace\, 2930 N. Las Vegas Blvd.\, North Las Vegas\, United States
ORGANIZER;CN="Broadacres Marketplace":MAILTO:mario-t@nd-inc.com
END:VEVENT
END:VCALENDAR