BEGIN:VCALENDAR
VERSION:2.0
PRODID:-//Broadacres Marketplace - ECPv6.15.20//NONSGML v1.0//EN
CALSCALE:GREGORIAN
METHOD:PUBLISH
X-ORIGINAL-URL:https://broadacresm.com
X-WR-CALDESC:Events for Broadacres Marketplace
REFRESH-INTERVAL;VALUE=DURATION:PT1H
X-Robots-Tag:noindex
X-PUBLISHED-TTL:PT1H
BEGIN:VTIMEZONE
TZID:America/Los_Angeles
BEGIN:DAYLIGHT
TZOFFSETFROM:-0800
TZOFFSETTO:-0700
TZNAME:PDT
DTSTART:20230312T100000
END:DAYLIGHT
BEGIN:STANDARD
TZOFFSETFROM:-0700
TZOFFSETTO:-0800
TZNAME:PST
DTSTART:20231105T090000
END:STANDARD
BEGIN:DAYLIGHT
TZOFFSETFROM:-0800
TZOFFSETTO:-0700
TZNAME:PDT
DTSTART:20240310T100000
END:DAYLIGHT
BEGIN:STANDARD
TZOFFSETFROM:-0700
TZOFFSETTO:-0800
TZNAME:PST
DTSTART:20241103T090000
END:STANDARD
BEGIN:DAYLIGHT
TZOFFSETFROM:-0800
TZOFFSETTO:-0700
TZNAME:PDT
DTSTART:20250309T100000
END:DAYLIGHT
BEGIN:STANDARD
TZOFFSETFROM:-0700
TZOFFSETTO:-0800
TZNAME:PST
DTSTART:20251102T090000
END:STANDARD
END:VTIMEZONE
BEGIN:VEVENT
DTSTART;TZID=America/Los_Angeles:20241004T183000
DTEND;TZID=America/Los_Angeles:20241004T223000
DTSTAMP:20260425T180549
CREATED:20241001T201743Z
LAST-MODIFIED:20241001T201743Z
UID:16355-1728066600-1728081000@broadacresm.com
SUMMARY:BANDA ESTRELLA SINALOENSE
DESCRIPTION:  \nHow about moving & dancing to the beat of one of the busiest and most acclaimed Bandas in Las Vegas. Yes Sir.\, We are talking about BANDA ESTRELLA SINALOENSE. If you dig this ‘Genre’ you will definitely dig this BANDA. Tell a friend or two you are coming and see you here!
URL:https://broadacresm.com/event/banda-estrella-sinaloense-9/
LOCATION:Broadacres Marketplace\, 2930 N. Las Vegas Blvd.\, North Las Vegas\, United States
ORGANIZER;CN="Broadacres Marketplace":MAILTO:mario-t@nd-inc.com
END:VEVENT
BEGIN:VEVENT
DTSTART;TZID=America/Los_Angeles:20241005T113000
DTEND;TZID=America/Los_Angeles:20241005T153000
DTSTAMP:20260425T180549
CREATED:20241001T201917Z
LAST-MODIFIED:20241001T201917Z
UID:16369-1728127800-1728142200@broadacresm.com
SUMMARY:ESENCIA COLOMBIANA
DESCRIPTION:Did somebody say Cumbia? Check out these fine musicians and their endless energy and ‘Sabor’ (Flavor). If you are into fun and dancing in a Family oriented outdoors venue\, WE ARE the place for you. Bring the entire family and your friends.
URL:https://broadacresm.com/event/esencia-colombiana-8/
LOCATION:Broadacres Marketplace\, 2930 N. Las Vegas Blvd.\, North Las Vegas\, United States
ORGANIZER;CN="Broadacres Marketplace":MAILTO:mario-t@nd-inc.com
END:VEVENT
BEGIN:VEVENT
DTSTART;TZID=America/Los_Angeles:20241006T113000
DTEND;TZID=America/Los_Angeles:20241006T163000
DTSTAMP:20260425T180549
CREATED:20241001T203035Z
LAST-MODIFIED:20241001T203035Z
UID:16371-1728214200-1728232200@broadacresm.com
SUMMARY:TECHNO BANDA LA DESTRUCTORA
DESCRIPTION:  \nNo dejes de disfrutar de “El Ponche” y el acoplamiento musical que solo se logran con años de tocar juntos. Broadacres Proudly Presents: BANDA LA DESTRUCTORA. \nWhen looking for great entertainment experience\, you can’t go wrong with this band. Tell a friend or 2 and see you on the dancefloor!
URL:https://broadacresm.com/event/techno-banda-la-destructora-3/
LOCATION:Broadacres Marketplace\, 2930 N. Las Vegas Blvd.\, North Las Vegas\, United States
ORGANIZER;CN="Broadacres Marketplace":MAILTO:mario-t@nd-inc.com
END:VEVENT
BEGIN:VEVENT
DTSTART;TZID=America/Los_Angeles:20241011T183000
DTEND;TZID=America/Los_Angeles:20241011T223000
DTSTAMP:20260425T180549
CREATED:20241001T204250Z
LAST-MODIFIED:20241001T204250Z
UID:16376-1728671400-1728685800@broadacresm.com
SUMMARY:CONJUNTO ABISSMO
DESCRIPTION:Grupo Musical (Norteño Sax)\, integrado por 5 elementos\, Jorge Padilla Bajo Eléctrico y voz\, Jordy Padilla Accordeon\, Andrick Padilla Saxofón\, Eder “Rex” Madrigal Bajo Quinto\, Rojelio Rodriguez Batería. Juntos forman Conjunto Abissmo\, combinando experiencia y juventud en el escenario.
URL:https://broadacresm.com/event/conjunto-abissmo-2/
LOCATION:Broadacres Marketplace\, 2930 N. Las Vegas Blvd.\, North Las Vegas\, United States
ORGANIZER;CN="Broadacres Marketplace":MAILTO:mario-t@nd-inc.com
END:VEVENT
BEGIN:VEVENT
DTSTART;TZID=America/Los_Angeles:20241012T113000
DTEND;TZID=America/Los_Angeles:20241012T153000
DTSTAMP:20260425T180549
CREATED:20241001T204519Z
LAST-MODIFIED:20241001T204519Z
UID:16379-1728732600-1728747000@broadacresm.com
SUMMARY:Desmother
DESCRIPTION:A very talented mother discovers her sons & Daughters are also very talented and decides to start a musical project with them. This is a great example of getting creative to keep our kids engaged in fun-productive activities with us. Please come enjoy this really fun Family Owned Musical Organization. Broadacres Proudly Presents: DESMOTHER.
URL:https://broadacresm.com/event/desmother-2/
LOCATION:Broadacres Marketplace\, 2930 N. Las Vegas Blvd.\, North Las Vegas\, United States
ORGANIZER;CN="Broadacres Marketplace":MAILTO:mario-t@nd-inc.com
END:VEVENT
BEGIN:VEVENT
DTSTART;TZID=America/Los_Angeles:20241013T113000
DTEND;TZID=America/Los_Angeles:20241013T173000
DTSTAMP:20260425T180549
CREATED:20241001T204635Z
LAST-MODIFIED:20241008T183349Z
UID:16383-1728819000-1728840600@broadacresm.com
SUMMARY:SUPER DOMINGO con EL GRAN LUPILLO RIVERA
DESCRIPTION:Llega a Broadacres Marketplace el icono de la dinastia Rivera\, EL GRAN LUPILLO RIVERA. En Super Domingo 13 de Octubre. Admission SOLO $3.50 Es para toda la familia asi es que ¡No Te Lo Puedes Perder! Ademas\, Banda Vibrante.
URL:https://broadacresm.com/event/banda-vibrante-4/
LOCATION:Broadacres Marketplace\, 2930 N. Las Vegas Blvd.\, North Las Vegas\, United States
ORGANIZER;CN="Broadacres Marketplace":MAILTO:mario-t@nd-inc.com
END:VEVENT
BEGIN:VEVENT
DTSTART;TZID=America/Los_Angeles:20241018T183000
DTEND;TZID=America/Los_Angeles:20241018T223000
DTSTAMP:20260425T180549
CREATED:20241008T184356Z
LAST-MODIFIED:20241009T221306Z
UID:16492-1729276200-1729290600@broadacresm.com
SUMMARY:EZTILO NORTE
DESCRIPTION:Traditional Norteño Hits\, of the likes of Ramon Ayala\, Cadetes de Linares\, Eliseo Robles\, Etc.. Are chosen favorites of this group that will take you back to a pleasant repertoire which will call for the traditional Aaayyyayayayayayy Mexican yell! Bring your entire family and come have a great time with us and EZTILO NORTE.
URL:https://broadacresm.com/event/eztilo-norte-12/
LOCATION:Broadacres Marketplace\, 2930 N. Las Vegas Blvd.\, North Las Vegas\, United States
ORGANIZER;CN="Broadacres Marketplace":MAILTO:mario-t@nd-inc.com
END:VEVENT
BEGIN:VEVENT
DTSTART;TZID=America/Los_Angeles:20241019T113000
DTEND;TZID=America/Los_Angeles:20241019T153000
DTSTAMP:20260425T180549
CREATED:20241008T185128Z
LAST-MODIFIED:20241009T221334Z
UID:16494-1729337400-1729351800@broadacresm.com
SUMMARY:TANIA Y SU GRUPO LVADO
DESCRIPTION:  \nLos exitos inmortales en voz de mujer al estilo unico de Tania su grupo Norteño LVADO. Dile a tus amigos y nos vemos en la pista de baile en Broadacres Marketplace.
URL:https://broadacresm.com/event/tania-y-su-grupo-lvado/
LOCATION:Broadacres Marketplace\, 2930 N. Las Vegas Blvd.\, North Las Vegas\, United States
ORGANIZER;CN="Broadacres Marketplace":MAILTO:mario-t@nd-inc.com
END:VEVENT
BEGIN:VEVENT
DTSTART;TZID=America/Los_Angeles:20241020T113000
DTEND;TZID=America/Los_Angeles:20241020T163000
DTSTAMP:20260425T180549
CREATED:20241008T185420Z
LAST-MODIFIED:20241009T221403Z
UID:16496-1729423800-1729441800@broadacresm.com
SUMMARY:HECTOR Y SU DESTINO NORTEÑO
DESCRIPTION:  \nA petición del publico regresan desde Denver\, Colorado a Broadacres Marketplace en Las Vegas\, Hector y su Destino Norte. ¡No te los puedes perder!
URL:https://broadacresm.com/event/hector-y-su-destino-norteno-2/
LOCATION:Broadacres Marketplace\, 2930 N. Las Vegas Blvd.\, North Las Vegas\, United States
ORGANIZER;CN="Broadacres Marketplace":MAILTO:mario-t@nd-inc.com
END:VEVENT
BEGIN:VEVENT
DTSTART;TZID=America/Los_Angeles:20241023T173000
DTEND;TZID=America/Los_Angeles:20241023T230000
DTSTAMP:20260425T180549
CREATED:20241020T034812Z
LAST-MODIFIED:20241020T034812Z
UID:16683-1729704600-1729724400@broadacresm.com
SUMMARY:T3R Elemento\, CONTROL\, LUPITA INFANTE\, LOS MALANDRINES y Mas.. ¡Boletos GRATIS!
DESCRIPTION:Votapalooza.com Learn about our commitment to empowering the Latino community through music and voting.
URL:https://broadacresm.com/event/t3r-elemento-control-lupita-infante-los-malandrines-y-mas-boletos-gratis/
ORGANIZER;CN="Broadacres Marketplace":MAILTO:mario-t@nd-inc.com
END:VEVENT
BEGIN:VEVENT
DTSTART;TZID=America/Los_Angeles:20241025T183000
DTEND;TZID=America/Los_Angeles:20241025T223000
DTSTAMP:20260425T180549
CREATED:20241009T221722Z
LAST-MODIFIED:20241009T221722Z
UID:16520-1729881000-1729895400@broadacresm.com
SUMMARY:CONJUNTO INIGUALABLE
DESCRIPTION:  \nIf you are into Norteño Music\, if you like to be entertained by a group that encompasses musicianship\, repertoire\, fresh looks\, original melodic phrases around the vocals\, a group that plays all the hits of the genre in a very unmatched (Inigualable) style. Do yourselves a favor and DO NOT miss CONJUNTO INIGUALABLE. And while you are at it\, do not forget to tell a friend or two you know would enjoy this type of entertainment.
URL:https://broadacresm.com/event/conjunto-inigualable-10/
LOCATION:Broadacres Marketplace\, 2930 N. Las Vegas Blvd.\, North Las Vegas\, United States
ORGANIZER;CN="Broadacres Marketplace":MAILTO:mario-t@nd-inc.com
END:VEVENT
BEGIN:VEVENT
DTSTART;TZID=America/Los_Angeles:20241026T113000
DTEND;TZID=America/Los_Angeles:20241026T153000
DTSTAMP:20260425T180549
CREATED:20241009T221826Z
LAST-MODIFIED:20241009T221855Z
UID:16522-1729942200-1729956600@broadacresm.com
SUMMARY:GRAVEDAD
DESCRIPTION:An Homage to Rock en Espanol Music. The best songs we grew up with from the 80’s\, 90’s\, and 2000’s. Rock and Pop\, Cumbia\, and other Tropical Music. Come and rock out with the family at Broadacres and don’t forget to tell a friend you will be here!
URL:https://broadacresm.com/event/gravedad-4/
LOCATION:Broadacres Marketplace\, 2930 N. Las Vegas Blvd.\, North Las Vegas\, United States
ORGANIZER;CN="Broadacres Marketplace":MAILTO:mario-t@nd-inc.com
END:VEVENT
BEGIN:VEVENT
DTSTART;TZID=America/Los_Angeles:20241027T113000
DTEND;TZID=America/Los_Angeles:20241027T163000
DTSTAMP:20260425T180549
CREATED:20241009T221951Z
LAST-MODIFIED:20241009T221951Z
UID:16524-1730028600-1730046600@broadacresm.com
SUMMARY:EL MORENO CARRILLO Y SU BANDA TIERRA SAGRADA
DESCRIPTION:  \nOne of the oldes’t and most acclaimed Banda’s in town. Broadacres Marketplace presents a EL MORENO CARRILLO Y SU BANDA TIERRA SAGRADA. \nIf you like banda music\, micheladas\, and a great Family environment to enjoy them\, this is for you! Come get led into a danceable enjoyable evening to remember. And you guessed it\, tell a friend or two you are definitely coming!
URL:https://broadacresm.com/event/el-moreno-carrillo-y-su-banda-tierra-sagrada-7/
LOCATION:Broadacres Marketplace\, 2930 N. Las Vegas Blvd.\, North Las Vegas\, United States
ORGANIZER;CN="Broadacres Marketplace":MAILTO:mario-t@nd-inc.com
END:VEVENT
END:VCALENDAR