BEGIN:VCALENDAR
VERSION:2.0
PRODID:-//Broadacres Marketplace - ECPv6.15.20//NONSGML v1.0//EN
CALSCALE:GREGORIAN
METHOD:PUBLISH
X-ORIGINAL-URL:https://broadacresm.com
X-WR-CALDESC:Events for Broadacres Marketplace
REFRESH-INTERVAL;VALUE=DURATION:PT1H
X-Robots-Tag:noindex
X-PUBLISHED-TTL:PT1H
BEGIN:VTIMEZONE
TZID:America/Los_Angeles
BEGIN:DAYLIGHT
TZOFFSETFROM:-0800
TZOFFSETTO:-0700
TZNAME:PDT
DTSTART:20230312T100000
END:DAYLIGHT
BEGIN:STANDARD
TZOFFSETFROM:-0700
TZOFFSETTO:-0800
TZNAME:PST
DTSTART:20231105T090000
END:STANDARD
BEGIN:DAYLIGHT
TZOFFSETFROM:-0800
TZOFFSETTO:-0700
TZNAME:PDT
DTSTART:20240310T100000
END:DAYLIGHT
BEGIN:STANDARD
TZOFFSETFROM:-0700
TZOFFSETTO:-0800
TZNAME:PST
DTSTART:20241103T090000
END:STANDARD
BEGIN:DAYLIGHT
TZOFFSETFROM:-0800
TZOFFSETTO:-0700
TZNAME:PDT
DTSTART:20250309T100000
END:DAYLIGHT
BEGIN:STANDARD
TZOFFSETFROM:-0700
TZOFFSETTO:-0800
TZNAME:PST
DTSTART:20251102T090000
END:STANDARD
END:VTIMEZONE
BEGIN:VEVENT
DTSTART;TZID=America/Los_Angeles:20241201T113000
DTEND;TZID=America/Los_Angeles:20241201T180000
DTSTAMP:20260425T212228
CREATED:20241125T213758Z
LAST-MODIFIED:20241125T213758Z
UID:18069-1733052600-1733076000@broadacresm.com
SUMMARY:(SUPER DOMINGO) TIRANOS DEL NORTE Y LA EXPLOSIVA BANDA RANCHO NUEVO
DESCRIPTION:  \nA manera de agradecimiento a su patrocinio\, en Broadacres Marketplace les traemos en SUPER DOMINGO a otro artista consumado por solo $3.50 de admisión. Asi como lo lée.. Venga y disfrute de los éxitos de LOS TIRANOS DEL NORTE este SUPER DOMINGO 1ro de Diciembre. Es un evento para todas las edades. ¡No se lo pueden perder\, aseguren su lugar\, llegen Temprano!
URL:https://broadacresm.com/event/super-domingo-tiranos-del-norte-y-la-explosiva-banda-rancho-nuevo/
LOCATION:Broadacres Marketplace\, 2930 N. Las Vegas Blvd.\, North Las Vegas\, United States
ORGANIZER;CN="Broadacres Marketplace":MAILTO:mario-t@nd-inc.com
END:VEVENT
BEGIN:VEVENT
DTSTART;TZID=America/Los_Angeles:20241207T113000
DTEND;TZID=America/Los_Angeles:20241207T153000
DTSTAMP:20260425T212228
CREATED:20241203T042108Z
LAST-MODIFIED:20241203T042108Z
UID:18278-1733571000-1733585400@broadacresm.com
SUMMARY:ALTA ALIANZA
DESCRIPTION:  \nGrupo norteño con mucho ambiente. Somos locales y llevamos complaciendo a los seguidores de las Vegas y sus alrededores desde el 2017. Norteño con cumbias\, zapateados y norteñas. Un ambiente alegre y familiar.
URL:https://broadacresm.com/event/alta-alianza-2/
LOCATION:Broadacres Marketplace\, 2930 N. Las Vegas Blvd.\, North Las Vegas\, United States
ORGANIZER;CN="Broadacres Marketplace":MAILTO:mario-t@nd-inc.com
END:VEVENT
BEGIN:VEVENT
DTSTART;TZID=America/Los_Angeles:20241208T113000
DTEND;TZID=America/Los_Angeles:20241208T163000
DTSTAMP:20260425T212228
CREATED:20241203T042243Z
LAST-MODIFIED:20241203T042243Z
UID:18288-1733657400-1733675400@broadacresm.com
SUMMARY:ZIGMA
DESCRIPTION:  \nFrom the beautiful state of Chihuahua in Mexico. Comes a great voice with in this great singer who is also a scholar. Bachelors in Business Administration in Mexico now in charge of administering this great band and his singing. His genre of choice; Norteño\, unbeknownst to many\, won Telemundo’s LA ACADEMIA Singing contest in Las Vegas Singing multiple musical genres. Please come enjoy the great music of Zigma and the unique voice of Polo Armendariz. While at it\, tell a friend or two. They will thank you for it.
URL:https://broadacresm.com/event/zigma-10/
LOCATION:Broadacres Marketplace\, 2930 N. Las Vegas Blvd.\, North Las Vegas\, United States
ORGANIZER;CN="Broadacres Marketplace":MAILTO:mario-t@nd-inc.com
END:VEVENT
BEGIN:VEVENT
DTSTART;TZID=America/Los_Angeles:20241214T113000
DTEND;TZID=America/Los_Angeles:20241214T153000
DTSTAMP:20260425T212228
CREATED:20241203T042431Z
LAST-MODIFIED:20241203T042431Z
UID:18290-1734175800-1734190200@broadacresm.com
SUMMARY:VEGAS FLOW
DESCRIPTION:  \nAre you into versatile music? If so; You can’t miss VEGAS FLOW as they take the stage playing a variety of music genre’s in the Pop charts. See you here and DO NOT forget to tell a friend or two you are coming.
URL:https://broadacresm.com/event/vegas-flow-5/
LOCATION:Broadacres Marketplace\, 2930 N. Las Vegas Blvd.\, North Las Vegas\, United States
ORGANIZER;CN="Broadacres Marketplace":MAILTO:mario-t@nd-inc.com
END:VEVENT
BEGIN:VEVENT
DTSTART;TZID=America/Los_Angeles:20241215T113000
DTEND;TZID=America/Los_Angeles:20241215T163000
DTSTAMP:20260425T212228
CREATED:20241203T042609Z
LAST-MODIFIED:20241203T042609Z
UID:18292-1734262200-1734280200@broadacresm.com
SUMMARY:BANDA DESIERTO
DESCRIPTION:  \nAfter years of touring with multiple well renown bands in the Regional Mexican Music Genre\, Ulises Canales (Band Leader) decides it is time to start his own project. There comes BANDA DESIERTO. A fully geared Sinaloan Style 13 pcs all wind instruments Band. If you are into Banda Music this is definitely one you don’t want to miss. Shoe-shine them boots and pull out that cowboy tejana because it’s always a great experience dancing to their beat. \nDon’t forget to tell a friend or two that enjoys banda and micheladas that you are coming…
URL:https://broadacresm.com/event/banda-desierto-8/
LOCATION:Broadacres Marketplace\, 2930 N. Las Vegas Blvd.\, North Las Vegas\, United States
ORGANIZER;CN="Broadacres Marketplace":MAILTO:mario-t@nd-inc.com
END:VEVENT
BEGIN:VEVENT
DTSTART;TZID=America/Los_Angeles:20241221T113000
DTEND;TZID=America/Los_Angeles:20241221T153000
DTSTAMP:20260425T212228
CREATED:20241203T042827Z
LAST-MODIFIED:20241203T042827Z
UID:18294-1734780600-1734795000@broadacresm.com
SUMMARY:CONJUNTO CLASSICO NORTE
DESCRIPTION:  \nEs el mas nuevo proyecto de El Cantante y Director Jose Luis Ocampo quien nos dice: “Crecí en la ola grupera pero amo el estilo Norteño de Acordeón y Saxofón 🎷 . Tengo mas de cuatro décadas arriba de los escenarios. Siempre cuidando de conectar con el público. Este proyecto se trata de tocar lo Classico del Genero Norteño con Sax. Claro\, sin olvidar la música actual. Ojalá sea de su completo agrado ya que lo hacemos desde el corazón.” – Jose Luis.
URL:https://broadacresm.com/event/conjunto-classico-norte-2/
LOCATION:Broadacres Marketplace\, 2930 N. Las Vegas Blvd.\, North Las Vegas\, United States
ORGANIZER;CN="Broadacres Marketplace":MAILTO:mario-t@nd-inc.com
END:VEVENT
BEGIN:VEVENT
DTSTART;TZID=America/Los_Angeles:20241222T113000
DTEND;TZID=America/Los_Angeles:20241222T163000
DTSTAMP:20260425T212228
CREATED:20241203T043006Z
LAST-MODIFIED:20241219T215549Z
UID:18296-1734867000-1734885000@broadacresm.com
SUMMARY:LOS SUPER GURRUMINOS DE LA BANDA
DESCRIPTION:A local legend in the Las Vegas Banda Music scene. You can’t go wrong with listening to these guys. Come enjoy the classic sound of Los Super Gurruminos De La Banda. Don’t forget to Tell a Friend!
URL:https://broadacresm.com/event/los-hermanos-padilla-8/
LOCATION:Broadacres Marketplace\, 2930 N. Las Vegas Blvd.\, North Las Vegas\, United States
ORGANIZER;CN="Broadacres Marketplace":MAILTO:mario-t@nd-inc.com
END:VEVENT
BEGIN:VEVENT
DTSTART;TZID=America/Los_Angeles:20241228T113000
DTEND;TZID=America/Los_Angeles:20241228T153000
DTSTAMP:20260425T212228
CREATED:20241203T043130Z
LAST-MODIFIED:20241203T043130Z
UID:18298-1735385400-1735399800@broadacresm.com
SUMMARY:BANDA VIBRANTE
DESCRIPTION:  \nPor primera vez an Broadacres Marketplace\, presentamos a Banda Vibrante. Vienen con todo a brindarles a nuestra gente fiel lo mejor de su repertorio y a despedir con nosotros el 2023. ¡No te lo puedes perder!
URL:https://broadacresm.com/event/banda-vibrante-5/
LOCATION:Broadacres Marketplace\, 2930 N. Las Vegas Blvd.\, North Las Vegas\, United States
ORGANIZER;CN="Broadacres Marketplace":MAILTO:mario-t@nd-inc.com
END:VEVENT
BEGIN:VEVENT
DTSTART;TZID=America/Los_Angeles:20241229T113000
DTEND;TZID=America/Los_Angeles:20241229T163000
DTSTAMP:20260425T212228
CREATED:20241203T043247Z
LAST-MODIFIED:20241203T043247Z
UID:18300-1735471800-1735489800@broadacresm.com
SUMMARY:BANDA ZACATECANA
DESCRIPTION:  \n¿Listos para una bailada con Musica de Banda\, alegria y sabor? Are you ready to have fun with one of the best and more renowned Bandas in Las Vegas? Entonces no te puedes perder a BANDA ZACATECANA. Tell your family and friends you are definitely coming.
URL:https://broadacresm.com/event/banda-zacatecana-11/
LOCATION:Broadacres Marketplace\, 2930 N. Las Vegas Blvd.\, North Las Vegas\, United States
ORGANIZER;CN="Broadacres Marketplace":MAILTO:mario-t@nd-inc.com
END:VEVENT
END:VCALENDAR