BEGIN:VCALENDAR
VERSION:2.0
PRODID:-//Broadacres Marketplace - ECPv6.15.20//NONSGML v1.0//EN
CALSCALE:GREGORIAN
METHOD:PUBLISH
X-ORIGINAL-URL:https://broadacresm.com
X-WR-CALDESC:Events for Broadacres Marketplace
REFRESH-INTERVAL;VALUE=DURATION:PT1H
X-Robots-Tag:noindex
X-PUBLISHED-TTL:PT1H
BEGIN:VTIMEZONE
TZID:America/Los_Angeles
BEGIN:DAYLIGHT
TZOFFSETFROM:-0800
TZOFFSETTO:-0700
TZNAME:PDT
DTSTART:20240310T100000
END:DAYLIGHT
BEGIN:STANDARD
TZOFFSETFROM:-0700
TZOFFSETTO:-0800
TZNAME:PST
DTSTART:20241103T090000
END:STANDARD
BEGIN:DAYLIGHT
TZOFFSETFROM:-0800
TZOFFSETTO:-0700
TZNAME:PDT
DTSTART:20250309T100000
END:DAYLIGHT
BEGIN:STANDARD
TZOFFSETFROM:-0700
TZOFFSETTO:-0800
TZNAME:PST
DTSTART:20251102T090000
END:STANDARD
BEGIN:DAYLIGHT
TZOFFSETFROM:-0800
TZOFFSETTO:-0700
TZNAME:PDT
DTSTART:20260308T100000
END:DAYLIGHT
BEGIN:STANDARD
TZOFFSETFROM:-0700
TZOFFSETTO:-0800
TZNAME:PST
DTSTART:20261101T090000
END:STANDARD
END:VTIMEZONE
BEGIN:VEVENT
DTSTART;TZID=America/Los_Angeles:20250912T183000
DTEND;TZID=America/Los_Angeles:20250912T223000
DTSTAMP:20260424T200922
CREATED:20250910T183743Z
LAST-MODIFIED:20250910T183743Z
UID:22896-1757701800-1757716200@broadacresm.com
SUMMARY:La Proyeccion De Durango
DESCRIPTION:Entrada solo $2. \nAbierto 4PM – 11PM. Musica en vivo 6:30PM-10:30PM.
URL:https://broadacresm.com/event/la-proyeccion-de-durango-10/
ATTACH;FMTTYPE=image/jpeg:https://broadacresm.com/wp-content/uploads/2025/09/2890e00e-740a-4e97-8bc6-18d7481aebfb.jpg
END:VEVENT
BEGIN:VEVENT
DTSTART;TZID=America/Los_Angeles:20250914T110000
DTEND;TZID=America/Los_Angeles:20250914T170000
DTSTAMP:20260424T200922
CREATED:20250910T202628Z
LAST-MODIFIED:20250910T202628Z
UID:22900-1757847600-1757869200@broadacresm.com
SUMMARY:Celebrando Fiestas Patrias con Los Cadetes De Linares
DESCRIPTION:Celebrando Fiestas Patrias con Los Cadetes De Linares\, Banda Zacatecana\, y Banda Los Principes! Entrada $2. \n\n 
URL:https://broadacresm.com/event/celebrando-fiestas-patrias-con-los-cadetes-de-linares/
ATTACH;FMTTYPE=image/jpeg:https://broadacresm.com/wp-content/uploads/2025/09/Copy-August-Cal-for-BROADM-5.jpg
END:VEVENT
BEGIN:VEVENT
DTSTART;TZID=America/Los_Angeles:20250919T183000
DTEND;TZID=America/Los_Angeles:20250919T223000
DTSTAMP:20260424T200922
CREATED:20250910T203541Z
LAST-MODIFIED:20250910T203541Z
UID:22903-1758306600-1758321000@broadacresm.com
SUMMARY:Conjunto Ideal
DESCRIPTION:Entrada solo $2. \nAbierto 4PM – 11PM. Musica en vivo 6:30PM-10:30PM.
URL:https://broadacresm.com/event/conjunto-ideal/
ATTACH;FMTTYPE=image/jpeg:https://broadacresm.com/wp-content/uploads/2025/09/7f284ea9-6a27-48b0-9df2-7cf8823f8928.jpg
END:VEVENT
BEGIN:VEVENT
DTSTART;TZID=America/Los_Angeles:20250921T113000
DTEND;TZID=America/Los_Angeles:20250921T163000
DTSTAMP:20260424T200922
CREATED:20250910T211846Z
LAST-MODIFIED:20250910T211846Z
UID:22906-1758454200-1758472200@broadacresm.com
SUMMARY:Banda Los Super Gurruminos
DESCRIPTION:Entrada $2.\nAbierto 6AM-5PM. Musica en vivo 11:30PM-4:30PM.
URL:https://broadacresm.com/event/banda-los-super-gurruminos/
ATTACH;FMTTYPE=image/png:https://broadacresm.com/wp-content/uploads/2025/09/18D1C360-8BB6-4516-A369-5300298ACF14-Edited.png
END:VEVENT
BEGIN:VEVENT
DTSTART;TZID=America/Los_Angeles:20250926T183000
DTEND;TZID=America/Los_Angeles:20250926T223000
DTSTAMP:20260424T200922
CREATED:20250910T213543Z
LAST-MODIFIED:20250910T213543Z
UID:22913-1758911400-1758925800@broadacresm.com
SUMMARY:Ruleta
DESCRIPTION:Entrada solo $2. \nAbierto 4PM – 11PM. Musica en vivo 6:30PM-10:30PM.
URL:https://broadacresm.com/event/ruleta/
ATTACH;FMTTYPE=image/jpeg:https://broadacresm.com/wp-content/uploads/2025/09/Copy-August-Cal-for-BROADM-2.jpg
END:VEVENT
BEGIN:VEVENT
DTSTART;TZID=America/Los_Angeles:20250928T113000
DTEND;TZID=America/Los_Angeles:20250928T163000
DTSTAMP:20260424T200922
CREATED:20250910T213919Z
LAST-MODIFIED:20250910T213919Z
UID:22916-1759059000-1759077000@broadacresm.com
SUMMARY:Los Metichones Band
DESCRIPTION:Entrada $2. \nAbierto 6AM-5PM. Musica en vivo 11:30AM-4:30PM.
URL:https://broadacresm.com/event/los-metichones-band-7/
ATTACH;FMTTYPE=image/jpeg:https://broadacresm.com/wp-content/uploads/2025/09/download.jpg
END:VEVENT
END:VCALENDAR