BEGIN:VCALENDAR
VERSION:2.0
PRODID:-//Broadacres Marketplace - ECPv6.15.20//NONSGML v1.0//EN
CALSCALE:GREGORIAN
METHOD:PUBLISH
X-WR-CALNAME:Broadacres Marketplace
X-ORIGINAL-URL:https://broadacresm.com
X-WR-CALDESC:Events for Broadacres Marketplace
REFRESH-INTERVAL;VALUE=DURATION:PT1H
X-Robots-Tag:noindex
X-PUBLISHED-TTL:PT1H
BEGIN:VTIMEZONE
TZID:America/Los_Angeles
BEGIN:DAYLIGHT
TZOFFSETFROM:-0800
TZOFFSETTO:-0700
TZNAME:PDT
DTSTART:20250309T100000
END:DAYLIGHT
BEGIN:STANDARD
TZOFFSETFROM:-0700
TZOFFSETTO:-0800
TZNAME:PST
DTSTART:20251102T090000
END:STANDARD
BEGIN:DAYLIGHT
TZOFFSETFROM:-0800
TZOFFSETTO:-0700
TZNAME:PDT
DTSTART:20260308T100000
END:DAYLIGHT
BEGIN:STANDARD
TZOFFSETFROM:-0700
TZOFFSETTO:-0800
TZNAME:PST
DTSTART:20261101T090000
END:STANDARD
BEGIN:DAYLIGHT
TZOFFSETFROM:-0800
TZOFFSETTO:-0700
TZNAME:PDT
DTSTART:20270314T100000
END:DAYLIGHT
BEGIN:STANDARD
TZOFFSETFROM:-0700
TZOFFSETTO:-0800
TZNAME:PST
DTSTART:20271107T090000
END:STANDARD
END:VTIMEZONE
BEGIN:VEVENT
DTSTART;TZID=America/Los_Angeles:20260103T113000
DTEND;TZID=America/Los_Angeles:20260103T153000
DTSTAMP:20260424T132056
CREATED:20251231T180006Z
LAST-MODIFIED:20251231T180006Z
UID:26169-1767439800-1767454200@broadacresm.com
SUMMARY:Grupo Eztilo Norte
DESCRIPTION:Entrada $3. Abierto 6AM-5PM. Musica en vivo 11:30AM-3:30PM.
URL:https://broadacresm.com/event/grupo-eztilo-norte/
ATTACH;FMTTYPE=image/jpeg:https://broadacresm.com/wp-content/uploads/2022/08/EZTILO_NORTE.jpg
END:VEVENT
BEGIN:VEVENT
DTSTART;TZID=America/Los_Angeles:20260104T113000
DTEND;TZID=America/Los_Angeles:20260104T163000
DTSTAMP:20260424T132056
CREATED:20251231T180128Z
LAST-MODIFIED:20251231T180128Z
UID:26171-1767526200-1767544200@broadacresm.com
SUMMARY:Banda Diamante Azul
DESCRIPTION:Entrada $3. Abierto 6AM-5PM. Musica en vivo 11:30AM-4:30PM.
URL:https://broadacresm.com/event/banda-diamante-azul-11/
ATTACH;FMTTYPE=image/jpeg:https://broadacresm.com/wp-content/uploads/2025/09/Banda-Diamante.jpg
END:VEVENT
BEGIN:VEVENT
DTSTART;TZID=America/Los_Angeles:20260110T113000
DTEND;TZID=America/Los_Angeles:20260110T153000
DTSTAMP:20260424T132056
CREATED:20251231T214256Z
LAST-MODIFIED:20251231T214256Z
UID:26183-1768044600-1768059000@broadacresm.com
SUMMARY:Conjunto Atrevido
DESCRIPTION:Entrada $3. Abierto 6AM-5PM. Musica en vivo 11:30AM-3:30PM.
URL:https://broadacresm.com/event/conjunto-atrevido-12/
ATTACH;FMTTYPE=image/jpeg:https://broadacresm.com/wp-content/uploads/2021/12/CONJUNTO-ATREVIDO.jpg
END:VEVENT
BEGIN:VEVENT
DTSTART;TZID=America/Los_Angeles:20260111T113000
DTEND;TZID=America/Los_Angeles:20260111T163000
DTSTAMP:20260424T132056
CREATED:20251231T214512Z
LAST-MODIFIED:20251231T214512Z
UID:26185-1768131000-1768149000@broadacresm.com
SUMMARY:Banda Vibrante
DESCRIPTION:Entrada $3. Abierto 6AM-5PM. Musica en vivo 11:30AM-4:30PM.
URL:https://broadacresm.com/event/banda-vibrante-7/
ATTACH;FMTTYPE=image/jpeg:https://broadacresm.com/wp-content/uploads/2025/12/Unknown.jpeg
END:VEVENT
BEGIN:VEVENT
DTSTART;TZID=America/Los_Angeles:20260117T113000
DTEND;TZID=America/Los_Angeles:20260117T153000
DTSTAMP:20260424T132056
CREATED:20251231T214620Z
LAST-MODIFIED:20251231T214620Z
UID:26188-1768649400-1768663800@broadacresm.com
SUMMARY:Los Lizarraga
DESCRIPTION:Entrada $3. Abierto 6AM-5PM. Musica en vivo 11:30AM-3:30PM.
URL:https://broadacresm.com/event/los-lizarraga-2/
ATTACH;FMTTYPE=image/jpeg:https://broadacresm.com/wp-content/uploads/2025/09/Los-Lizarraga.jpg
END:VEVENT
BEGIN:VEVENT
DTSTART;TZID=America/Los_Angeles:20260118T113000
DTEND;TZID=America/Los_Angeles:20260118T163000
DTSTAMP:20260424T132056
CREATED:20251231T230900Z
LAST-MODIFIED:20251231T230900Z
UID:26192-1768735800-1768753800@broadacresm.com
SUMMARY:Banda Los Super Gurruminos
DESCRIPTION:Entrada $3. Abierto 6AM-5PM. Musica en vivo 11:30AM-4:30PM. \n 
URL:https://broadacresm.com/event/banda-los-super-gurruminos-3/
END:VEVENT
BEGIN:VEVENT
DTSTART;TZID=America/Los_Angeles:20260124T113000
DTEND;TZID=America/Los_Angeles:20260124T153000
DTSTAMP:20260424T132056
CREATED:20251231T231006Z
LAST-MODIFIED:20251231T231006Z
UID:26194-1769254200-1769268600@broadacresm.com
SUMMARY:Los Venados De Sonora
DESCRIPTION:Entrada $3. Abierto 6AM-5PM. Musica en vivo 11:30AM-3:30PM.
URL:https://broadacresm.com/event/los-venados-de-sonora/
ATTACH;FMTTYPE=image/jpeg:https://broadacresm.com/wp-content/uploads/2022/12/LOS-VENADOS-DE-SONORA.jpg
END:VEVENT
BEGIN:VEVENT
DTSTART;TZID=America/Los_Angeles:20260125T113000
DTEND;TZID=America/Los_Angeles:20260125T163000
DTSTAMP:20260424T132056
CREATED:20251231T231128Z
LAST-MODIFIED:20251231T231128Z
UID:26196-1769340600-1769358600@broadacresm.com
SUMMARY:Banda Zacatecana De Tony Flores
DESCRIPTION:Entrada $3. Abierto 6AM-5PM. Musica en vivo 11:30AM-4:30PM.
URL:https://broadacresm.com/event/banda-zacatecana-de-tony-flores-5/
ATTACH;FMTTYPE=image/jpeg:https://broadacresm.com/wp-content/uploads/2022/03/BANDA-LA-ZACATECANA-1.jpg
END:VEVENT
BEGIN:VEVENT
DTSTART;TZID=America/Los_Angeles:20260131T113000
DTEND;TZID=America/Los_Angeles:20260131T153000
DTSTAMP:20260424T132056
CREATED:20251231T231247Z
LAST-MODIFIED:20251231T231247Z
UID:26198-1769859000-1769873400@broadacresm.com
SUMMARY:Conjunto Abissmo
DESCRIPTION:Entrada $3. Abierto 6AM-5PM. Musica en vivo 11:30AM-3:30PM.
URL:https://broadacresm.com/event/conjunto-abissmo-5/
ATTACH;FMTTYPE=image/jpeg:https://broadacresm.com/wp-content/uploads/2025/09/Conjunto-Abissmo.jpg
END:VEVENT
END:VCALENDAR